Package: RnBeads.hg19 Version: 1.40.0 Command: /home/biocbuild/bbs-3.21-bioc/R/bin/R CMD build --keep-empty-dirs --no-resave-data RnBeads.hg19 StartedAt: 2025-09-30 11:35:49 -0400 (Tue, 30 Sep 2025) EndedAt: 2025-09-30 11:35:56 -0400 (Tue, 30 Sep 2025) EllapsedTime: 7.0 seconds RetCode: 0 Status: OK PackageFile: RnBeads.hg19_1.40.0.tar.gz PackageFileSize: 100.1 MiB