Package: RforProteomics Version: 1.48.0 Command: /home/biocbuild/bbs-3.22-bioc/R/bin/R CMD INSTALL RforProteomics StartedAt: 2025-11-18 11:01:04 -0500 (Tue, 18 Nov 2025) EndedAt: 2025-11-18 11:01:43 -0500 (Tue, 18 Nov 2025) EllapsedTime: 39.4 seconds RetCode: 0 Status: OK