Package: RforProteomics Version: 1.48.0 Command: /home/biocbuild/bbs-3.22-bioc/R/bin/R CMD check --install=check:RforProteomics.install-out.txt --library=/home/biocbuild/bbs-3.22-bioc/R/site-library --timings RforProteomics_1.48.0.tar.gz StartedAt: 2025-11-18 13:27:59 -0500 (Tue, 18 Nov 2025) EndedAt: 2025-11-18 13:38:50 -0500 (Tue, 18 Nov 2025) EllapsedTime: 650.8 seconds RetCode: 0 Status: WARNINGS CheckDir: RforProteomics.Rcheck Warnings: 1