Package: RforProteomics Version: 1.48.0 Command: /home/biocbuild/bbs-3.22-bioc/R/bin/R CMD build --keep-empty-dirs --no-resave-data RforProteomics StartedAt: 2025-11-18 12:01:32 -0500 (Tue, 18 Nov 2025) EndedAt: 2025-11-18 12:24:36 -0500 (Tue, 18 Nov 2025) EllapsedTime: 1383.9 seconds RetCode: 0 Status: OK PackageFile: RforProteomics_1.48.0.tar.gz PackageFileSize: 9.17 MiB