Package: RegParallel Version: 1.24.0 Command: /home/biocbuild/bbs-3.20-bioc/R/bin/R CMD INSTALL RegParallel StartedAt: 2025-02-13 10:57:59 -0500 (Thu, 13 Feb 2025) EndedAt: 2025-02-13 10:58:07 -0500 (Thu, 13 Feb 2025) EllapsedTime: 8.1 seconds RetCode: 0 Status: OK