Package: RegParallel Version: 1.24.0 Command: /home/biocbuild/bbs-3.20-bioc/R/bin/R CMD check --install=check:RegParallel.install-out.txt --library=/home/biocbuild/bbs-3.20-bioc/R/site-library --timings RegParallel_1.24.0.tar.gz StartedAt: 2025-02-13 12:31:20 -0500 (Thu, 13 Feb 2025) EndedAt: 2025-02-13 12:39:22 -0500 (Thu, 13 Feb 2025) EllapsedTime: 481.6 seconds RetCode: 0 Status: OK CheckDir: RegParallel.Rcheck Warnings: 0