Package: RcisTarget.hg19.motifDBs.cisbpOnly.500bp Version: 1.26.0 Command: /home/biocbuild/bbs-3.20-bioc/R/bin/R CMD build --keep-empty-dirs --no-resave-data RcisTarget.hg19.motifDBs.cisbpOnly.500bp StartedAt: 2025-02-06 11:32:56 -0500 (Thu, 06 Feb 2025) EndedAt: 2025-02-06 11:33:08 -0500 (Thu, 06 Feb 2025) EllapsedTime: 11.8 seconds RetCode: 0 Status: OK PackageFile: RcisTarget.hg19.motifDBs.cisbpOnly.500bp_1.26.0.tar.gz PackageFileSize: 53.48 MiB