Package: RTCGA.rnaseq Version: 20151101.38.0 Command: /home/biocbuild/bbs-3.21-bioc/R/bin/R CMD check --install=check:RTCGA.rnaseq.install-out.txt --library=/home/biocbuild/bbs-3.21-bioc/R/site-library --timings RTCGA.rnaseq_20151101.38.0.tar.gz StartedAt: 2025-10-16 12:53:28 -0400 (Thu, 16 Oct 2025) EndedAt: 2025-10-16 12:56:28 -0400 (Thu, 16 Oct 2025) EllapsedTime: 180.0 seconds RetCode: 0 Status: WARNINGS CheckDir: RTCGA.rnaseq.Rcheck Warnings: 1