Package: RTCGA.mutations Version: 20151101.36.0 Command: /home/biocbuild/bbs-3.20-bioc/R/bin/R CMD build --keep-empty-dirs --no-resave-data RTCGA.mutations StartedAt: 2025-02-11 11:36:04 -0500 (Tue, 11 Feb 2025) EndedAt: 2025-02-11 11:39:22 -0500 (Tue, 11 Feb 2025) EllapsedTime: 197.4 seconds RetCode: 0 Status: OK PackageFile: RTCGA.mutations_20151101.36.0.tar.gz PackageFileSize: 103.8 MiB