Package: RTCGA.mRNA Version: 1.34.0 Command: /home/biocbuild/bbs-3.20-bioc/R/bin/R CMD build --keep-empty-dirs --no-resave-data RTCGA.mRNA StartedAt: 2025-01-30 11:35:43 -0500 (Thu, 30 Jan 2025) EndedAt: 2025-01-30 11:36:23 -0500 (Thu, 30 Jan 2025) EllapsedTime: 40.0 seconds RetCode: 0 Status: OK PackageFile: RTCGA.mRNA_1.34.0.tar.gz PackageFileSize: 84.98 MiB