Package: RTCGA.clinical Version: 20151101.38.0 Command: /home/biocbuild/bbs-3.21-bioc/R/bin/R CMD INSTALL RTCGA.clinical StartedAt: 2025-10-02 10:58:10 -0400 (Thu, 02 Oct 2025) EndedAt: 2025-10-02 10:58:53 -0400 (Thu, 02 Oct 2025) EllapsedTime: 43.7 seconds RetCode: 0 Status: OK