Package: RTCGA.PANCAN12 Version: 1.38.0 Command: /home/biocbuild/bbs-3.22-bioc/R/bin/R CMD INSTALL RTCGA.PANCAN12 StartedAt: 2025-10-30 11:07:53 -0400 (Thu, 30 Oct 2025) EndedAt: 2025-10-30 11:08:06 -0400 (Thu, 30 Oct 2025) EllapsedTime: 13.2 seconds RetCode: 0 Status: OK