Package: RTCGA.PANCAN12 Version: 1.38.0 Command: /home/biocbuild/bbs-3.22-bioc/R/bin/R CMD build --keep-empty-dirs --no-resave-data RTCGA.PANCAN12 StartedAt: 2025-10-30 11:50:05 -0400 (Thu, 30 Oct 2025) EndedAt: 2025-10-30 11:50:32 -0400 (Thu, 30 Oct 2025) EllapsedTime: 27.3 seconds RetCode: 0 Status: OK PackageFile: RTCGA.PANCAN12_1.38.0.tar.gz PackageFileSize: 213.9 MiB