Package: RRBSdata Version: 1.30.0 Command: /home/biocbuild/bbs-3.22-bioc/R/bin/R CMD build --keep-empty-dirs --no-resave-data RRBSdata StartedAt: 2025-11-18 12:03:32 -0500 (Tue, 18 Nov 2025) EndedAt: 2025-11-18 12:04:11 -0500 (Tue, 18 Nov 2025) EllapsedTime: 38.9 seconds RetCode: 0 Status: OK PackageFile: RRBSdata_1.30.0.tar.gz PackageFileSize: 73.93 MiB