Package: RRBSdata Version: 1.28.0 Command: /home/biocbuild/bbs-3.21-bioc/R/bin/R CMD INSTALL RRBSdata StartedAt: 2025-10-16 11:02:09 -0400 (Thu, 16 Oct 2025) EndedAt: 2025-10-16 11:02:32 -0400 (Thu, 16 Oct 2025) EllapsedTime: 22.9 seconds RetCode: 0 Status: OK