Package: RRBSdata Version: 1.30.0 Maintainer: Katja Hebestreit MaintainerEmail: katja.hebestreit at gmail.com git_url: https://git.bioconductor.org/packages/RRBSdata git_branch: RELEASE_3_22 git_last_commit: 57a8f34 git_last_commit_date: 2025-10-29 09:55:51 -0400 (Wed, 29 Oct 2025)