Package: RNAmodR.Data Version: 1.20.0 Command: /home/biocbuild/bbs-3.20-bioc/R/bin/R CMD INSTALL RNAmodR.Data StartedAt: 2025-02-13 11:04:19 -0500 (Thu, 13 Feb 2025) EndedAt: 2025-02-13 11:04:56 -0500 (Thu, 13 Feb 2025) EllapsedTime: 36.4 seconds RetCode: 0 Status: OK