Package: RNAmodR.Data Version: 1.20.0 Command: /home/biocbuild/bbs-3.20-bioc/R/bin/R CMD check --install=check:RNAmodR.Data.install-out.txt --library=/home/biocbuild/bbs-3.20-bioc/R/site-library --timings RNAmodR.Data_1.20.0.tar.gz StartedAt: 2025-02-13 12:32:16 -0500 (Thu, 13 Feb 2025) EndedAt: 2025-02-13 12:37:31 -0500 (Thu, 13 Feb 2025) EllapsedTime: 315.7 seconds RetCode: 0 Status: OK CheckDir: RNAmodR.Data.Rcheck Warnings: 0