Package: RMassBankData Version: 1.46.0 Command: /home/biocbuild/bbs-3.21-bioc/R/bin/R CMD INSTALL RMassBankData StartedAt: 2025-10-09 10:55:49 -0400 (Thu, 09 Oct 2025) EndedAt: 2025-10-09 10:55:55 -0400 (Thu, 09 Oct 2025) EllapsedTime: 6.5 seconds RetCode: 0 Status: OK