Package: RITANdata Version: 1.30.0 Command: /home/biocbuild/bbs-3.20-bioc/R/bin/R CMD INSTALL RITANdata StartedAt: 2025-01-30 10:55:31 -0500 (Thu, 30 Jan 2025) EndedAt: 2025-01-30 10:56:04 -0500 (Thu, 30 Jan 2025) EllapsedTime: 33.2 seconds RetCode: 0 Status: OK