Package: RITANdata Version: 1.30.0 Command: /home/biocbuild/bbs-3.20-bioc/R/bin/R CMD check --install=check:RITANdata.install-out.txt --library=/home/biocbuild/bbs-3.20-bioc/R/site-library --timings RITANdata_1.30.0.tar.gz StartedAt: 2025-01-30 12:33:00 -0500 (Thu, 30 Jan 2025) EndedAt: 2025-01-30 12:33:20 -0500 (Thu, 30 Jan 2025) EllapsedTime: 19.6 seconds RetCode: 0 Status: OK CheckDir: RITANdata.Rcheck Warnings: 0