Package: QUBICdata Version: 1.38.0 Command: /home/biocbuild/bbs-3.22-bioc/R/bin/R CMD INSTALL QUBICdata StartedAt: 2025-11-20 10:58:05 -0500 (Thu, 20 Nov 2025) EndedAt: 2025-11-20 10:58:06 -0500 (Thu, 20 Nov 2025) EllapsedTime: 1.7 seconds RetCode: 0 Status: OK