Package: QDNAseq.mm10 Version: 1.40.0 Command: /home/biocbuild/bbs-3.22-bioc/R/bin/R CMD INSTALL QDNAseq.mm10 StartedAt: 2025-10-30 11:05:50 -0400 (Thu, 30 Oct 2025) EndedAt: 2025-10-30 11:06:08 -0400 (Thu, 30 Oct 2025) EllapsedTime: 17.8 seconds RetCode: 0 Status: OK