Package: QDNAseq.hg19 Version: 1.36.0 Command: /home/biocbuild/bbs-3.20-bioc/R/bin/R CMD build --keep-empty-dirs --no-resave-data QDNAseq.hg19 StartedAt: 2025-02-06 11:32:21 -0500 (Thu, 06 Feb 2025) EndedAt: 2025-02-06 11:32:24 -0500 (Thu, 06 Feb 2025) EllapsedTime: 3.3 seconds RetCode: 0 Status: OK PackageFile: QDNAseq.hg19_1.36.0.tar.gz PackageFileSize: 35.26 MiB