Package: PtH2O2lipids Version: 1.32.0 Command: /home/biocbuild/bbs-3.20-bioc/R/bin/R CMD INSTALL PtH2O2lipids StartedAt: 2025-02-11 11:04:07 -0500 (Tue, 11 Feb 2025) EndedAt: 2025-02-11 11:05:00 -0500 (Tue, 11 Feb 2025) EllapsedTime: 53.5 seconds RetCode: 0 Status: OK