Package: PtH2O2lipids Version: 1.32.0 Command: /home/biocbuild/bbs-3.20-bioc/R/bin/R CMD check --install=check:PtH2O2lipids.install-out.txt --library=/home/biocbuild/bbs-3.20-bioc/R/site-library --timings PtH2O2lipids_1.32.0.tar.gz StartedAt: 2025-02-11 12:31:27 -0500 (Tue, 11 Feb 2025) EndedAt: 2025-02-11 12:37:04 -0500 (Tue, 11 Feb 2025) EllapsedTime: 337.4 seconds RetCode: 0 Status: WARNINGS CheckDir: PtH2O2lipids.Rcheck Warnings: 2