Package: ProteinGymR Version: 1.2.8 Command: /home/biocbuild/bbs-3.21-bioc/R/bin/R CMD INSTALL ProteinGymR StartedAt: 2025-10-07 10:56:58 -0400 (Tue, 07 Oct 2025) EndedAt: 2025-10-07 10:57:11 -0400 (Tue, 07 Oct 2025) EllapsedTime: 13.5 seconds RetCode: 0 Status: OK