Package: ProteinGymR Version: 1.2.8 Command: /home/biocbuild/bbs-3.21-bioc/R/bin/R CMD build --keep-empty-dirs --no-resave-data ProteinGymR StartedAt: 2025-10-07 11:33:49 -0400 (Tue, 07 Oct 2025) EndedAt: 2025-10-07 11:37:43 -0400 (Tue, 07 Oct 2025) EllapsedTime: 233.9 seconds RetCode: 0 Status: OK PackageFile: ProteinGymR_1.2.8.tar.gz PackageFileSize: 2.023 MiB