Package: PhyloProfileData Version: 1.20.0 Command: /home/biocbuild/bbs-3.20-bioc/R/bin/R CMD INSTALL PhyloProfileData StartedAt: 2025-02-06 10:57:57 -0500 (Thu, 06 Feb 2025) EndedAt: 2025-02-06 10:58:10 -0500 (Thu, 06 Feb 2025) EllapsedTime: 12.9 seconds RetCode: 0 Status: OK