Package: PepsNMRData Version: 1.26.0 Command: /home/biocbuild/bbs-3.21-bioc/R/bin/R CMD INSTALL PepsNMRData StartedAt: 2025-10-02 10:55:47 -0400 (Thu, 02 Oct 2025) EndedAt: 2025-10-02 10:56:00 -0400 (Thu, 02 Oct 2025) EllapsedTime: 13.2 seconds RetCode: 0 Status: OK