Package: PathNetData Version: 1.46.0 Command: /home/biocbuild/bbs-3.22-bioc/R/bin/R CMD INSTALL PathNetData StartedAt: 2025-11-18 10:56:08 -0500 (Tue, 18 Nov 2025) EndedAt: 2025-11-18 10:56:11 -0500 (Tue, 18 Nov 2025) EllapsedTime: 2.6 seconds RetCode: 0 Status: OK