Package: PasillaTranscriptExpr Version: 1.36.0 Command: /home/biocbuild/bbs-3.21-bioc/R/bin/R CMD INSTALL PasillaTranscriptExpr StartedAt: 2025-07-24 10:55:20 -0400 (Thu, 24 Jul 2025) EndedAt: 2025-07-24 10:55:22 -0400 (Thu, 24 Jul 2025) EllapsedTime: 1.2 seconds RetCode: 0 Status: OK