Package: PasillaTranscriptExpr Version: 1.36.0 Command: /home/biocbuild/bbs-3.21-bioc/R/bin/R CMD build --keep-empty-dirs --no-resave-data PasillaTranscriptExpr StartedAt: 2025-07-24 11:32:43 -0400 (Thu, 24 Jul 2025) EndedAt: 2025-07-24 11:32:59 -0400 (Thu, 24 Jul 2025) EllapsedTime: 15.9 seconds RetCode: 0 Status: OK PackageFile: PasillaTranscriptExpr_1.36.0.tar.gz PackageFileSize: 783.4 KiB