Package: PWMEnrich.Hsapiens.background Version: 4.44.0 Command: /home/biocbuild/bbs-3.22-bioc/R/bin/R CMD INSTALL PWMEnrich.Hsapiens.background StartedAt: 2025-11-18 10:58:15 -0500 (Tue, 18 Nov 2025) EndedAt: 2025-11-18 10:58:21 -0500 (Tue, 18 Nov 2025) EllapsedTime: 6.0 seconds RetCode: 0 Status: OK