Package: PCHiCdata Version: 1.34.0 Command: /home/biocbuild/bbs-3.20-bioc/R/bin/R CMD check --install=check:PCHiCdata.install-out.txt --library=/home/biocbuild/bbs-3.20-bioc/R/site-library --timings PCHiCdata_1.34.0.tar.gz StartedAt: 2025-02-06 12:27:30 -0500 (Thu, 06 Feb 2025) EndedAt: 2025-02-06 12:28:31 -0500 (Thu, 06 Feb 2025) EllapsedTime: 60.8 seconds RetCode: 0 Status: WARNINGS CheckDir: PCHiCdata.Rcheck Warnings: 1