Package: PCHiCdata Version: 1.34.0 Command: /home/biocbuild/bbs-3.20-bioc/R/bin/R CMD build --keep-empty-dirs --no-resave-data PCHiCdata StartedAt: 2025-02-06 11:31:13 -0500 (Thu, 06 Feb 2025) EndedAt: 2025-02-06 11:33:00 -0500 (Thu, 06 Feb 2025) EllapsedTime: 107.1 seconds RetCode: 0 Status: OK PackageFile: PCHiCdata_1.34.0.tar.gz PackageFileSize: 183.3 MiB