Package: PCHiCdata Version: 1.36.0 Command: /home/biocbuild/bbs-3.21-bioc/R/bin/R CMD build --keep-empty-dirs --no-resave-data PCHiCdata StartedAt: 2025-10-16 11:32:49 -0400 (Thu, 16 Oct 2025) EndedAt: 2025-10-16 11:34:38 -0400 (Thu, 16 Oct 2025) EllapsedTime: 108.6 seconds RetCode: 0 Status: OK PackageFile: PCHiCdata_1.36.0.tar.gz PackageFileSize: 183.3 MiB