Package: ObMiTi Version: 1.16.0 Command: /home/biocbuild/bbs-3.21-bioc/R/bin/R CMD build --keep-empty-dirs --no-resave-data ObMiTi StartedAt: 2025-09-25 11:31:34 -0400 (Thu, 25 Sep 2025) EndedAt: 2025-09-25 11:32:17 -0400 (Thu, 25 Sep 2025) EllapsedTime: 43.7 seconds RetCode: 0 Status: OK PackageFile: ObMiTi_1.16.0.tar.gz PackageFileSize: 46.98 KiB