Package: NestLink Version: 1.26.0 Command: /home/biocbuild/bbs-3.22-bioc/R/bin/R CMD build --keep-empty-dirs --no-resave-data NestLink StartedAt: 2025-11-20 11:36:19 -0500 (Thu, 20 Nov 2025) EndedAt: 2025-11-20 11:40:32 -0500 (Thu, 20 Nov 2025) EllapsedTime: 253.3 seconds RetCode: 0 Status: OK PackageFile: NestLink_1.26.0.tar.gz PackageFileSize: 6.452 MiB