Package: NanoporeRNASeq Version: 1.16.0 Command: /home/biocbuild/bbs-3.20-bioc/R/bin/R CMD check --install=check:NanoporeRNASeq.install-out.txt --library=/home/biocbuild/bbs-3.20-bioc/R/site-library --timings NanoporeRNASeq_1.16.0.tar.gz StartedAt: 2025-02-06 12:24:00 -0500 (Thu, 06 Feb 2025) EndedAt: 2025-02-06 12:26:30 -0500 (Thu, 06 Feb 2025) EllapsedTime: 149.6 seconds RetCode: 0 Status: OK CheckDir: NanoporeRNASeq.Rcheck Warnings: 0