Package: NanoporeRNASeq Version: 1.16.0 Command: /home/biocbuild/bbs-3.20-bioc/R/bin/R CMD build --keep-empty-dirs --no-resave-data NanoporeRNASeq StartedAt: 2025-02-11 11:29:58 -0500 (Tue, 11 Feb 2025) EndedAt: 2025-02-11 11:32:14 -0500 (Tue, 11 Feb 2025) EllapsedTime: 135.6 seconds RetCode: 0 Status: OK PackageFile: NanoporeRNASeq_1.16.0.tar.gz PackageFileSize: 233.6 KiB