Package: NGScopyData Version: 1.28.0 Command: /home/biocbuild/bbs-3.21-bioc/R/bin/R CMD INSTALL NGScopyData StartedAt: 2025-10-02 10:55:48 -0400 (Thu, 02 Oct 2025) EndedAt: 2025-10-02 10:55:50 -0400 (Thu, 02 Oct 2025) EllapsedTime: 2.0 seconds RetCode: 0 Status: OK