Package: NGScopyData Version: 1.28.0 Command: /home/biocbuild/bbs-3.21-bioc/R/bin/R CMD build --keep-empty-dirs --no-resave-data NGScopyData StartedAt: 2025-10-02 11:32:01 -0400 (Thu, 02 Oct 2025) EndedAt: 2025-10-02 11:32:04 -0400 (Thu, 02 Oct 2025) EllapsedTime: 3.3 seconds RetCode: 0 Status: OK PackageFile: NGScopyData_1.28.0.tar.gz PackageFileSize: 37 MiB