Package: MouseThymusAgeing Version: 1.14.0 Command: /home/biocbuild/bbs-3.20-bioc/R/bin/R CMD INSTALL MouseThymusAgeing StartedAt: 2025-02-11 11:01:02 -0500 (Tue, 11 Feb 2025) EndedAt: 2025-02-11 11:01:32 -0500 (Tue, 11 Feb 2025) EllapsedTime: 29.9 seconds RetCode: 0 Status: OK