Package: MicrobiomeBenchmarkData Version: 1.12.0 Command: /home/biocbuild/bbs-3.22-bioc/R/bin/R CMD INSTALL MicrobiomeBenchmarkData StartedAt: 2025-11-18 10:59:40 -0500 (Tue, 18 Nov 2025) EndedAt: 2025-11-18 11:00:08 -0500 (Tue, 18 Nov 2025) EllapsedTime: 28.3 seconds RetCode: 0 Status: OK