Package: MethylSeqData Version: 1.18.0 Command: /home/biocbuild/bbs-3.21-bioc/R/bin/R CMD INSTALL MethylSeqData StartedAt: 2025-10-02 11:00:52 -0400 (Thu, 02 Oct 2025) EndedAt: 2025-10-02 11:01:19 -0400 (Thu, 02 Oct 2025) EllapsedTime: 27.2 seconds RetCode: 0 Status: OK