Package: MethylAidData Version: 1.38.0 Command: /home/biocbuild/bbs-3.20-bioc/R/bin/R CMD INSTALL MethylAidData StartedAt: 2025-02-18 11:02:01 -0500 (Tue, 18 Feb 2025) EndedAt: 2025-02-18 11:02:26 -0500 (Tue, 18 Feb 2025) EllapsedTime: 25.3 seconds RetCode: 0 Status: OK