Package: MethylAidData Version: 1.38.0 Command: /home/biocbuild/bbs-3.20-bioc/R/bin/R CMD check --install=check:MethylAidData.install-out.txt --library=/home/biocbuild/bbs-3.20-bioc/R/site-library --timings MethylAidData_1.38.0.tar.gz StartedAt: 2025-02-18 12:19:08 -0500 (Tue, 18 Feb 2025) EndedAt: 2025-02-18 12:22:10 -0500 (Tue, 18 Feb 2025) EllapsedTime: 182.3 seconds RetCode: 0 Status: OK CheckDir: MethylAidData.Rcheck Warnings: 0