Package: MethylAidData Version: 1.40.0 Command: /home/biocbuild/bbs-3.21-bioc/R/bin/R CMD INSTALL MethylAidData StartedAt: 2025-10-02 11:02:37 -0400 (Thu, 02 Oct 2025) EndedAt: 2025-10-02 11:03:06 -0400 (Thu, 02 Oct 2025) EllapsedTime: 29.5 seconds RetCode: 0 Status: OK