Package: MerfishData Version: 1.12.0 Command: /home/biocbuild/bbs-3.22-bioc/R/bin/R CMD INSTALL MerfishData StartedAt: 2025-10-30 11:01:31 -0400 (Thu, 30 Oct 2025) EndedAt: 2025-10-30 11:02:18 -0400 (Thu, 30 Oct 2025) EllapsedTime: 46.9 seconds RetCode: 0 Status: OK